Package: MerfishData Version: 1.12.0 Command: /home/biocbuild/bbs-3.22-bioc/R/bin/R CMD INSTALL MerfishData StartedAt: 2025-11-06 10:59:19 -0500 (Thu, 06 Nov 2025) EndedAt: 2025-11-06 10:59:46 -0500 (Thu, 06 Nov 2025) EllapsedTime: 26.2 seconds RetCode: 0 Status: OK