Package: MerfishData Version: 1.12.0 Command: /home/biocbuild/bbs-3.22-bioc/R/bin/R CMD build --keep-empty-dirs --no-resave-data MerfishData StartedAt: 2025-11-06 11:28:51 -0500 (Thu, 06 Nov 2025) EndedAt: 2025-11-06 11:37:21 -0500 (Thu, 06 Nov 2025) EllapsedTime: 510.4 seconds RetCode: 0 Status: OK PackageFile: MerfishData_1.12.0.tar.gz PackageFileSize: 24.29 MiB