Package: MUGAExampleData Version: 1.30.0 Command: /home/biocbuild/bbs-3.22-bioc/R/bin/R CMD check --install=check:MUGAExampleData.install-out.txt --library=/home/biocbuild/bbs-3.22-bioc/R/site-library --timings MUGAExampleData_1.30.0.tar.gz StartedAt: 2025-11-06 12:44:31 -0500 (Thu, 06 Nov 2025) EndedAt: 2025-11-06 12:45:10 -0500 (Thu, 06 Nov 2025) EllapsedTime: 38.8 seconds RetCode: 0 Status: OK CheckDir: MUGAExampleData.Rcheck Warnings: 0