Package: MSMB Version: 1.28.0 Command: /home/biocbuild/bbs-3.22-bioc/R/bin/R CMD INSTALL MSMB StartedAt: 2025-11-06 10:56:27 -0500 (Thu, 06 Nov 2025) EndedAt: 2025-11-06 10:56:28 -0500 (Thu, 06 Nov 2025) EllapsedTime: 1.8 seconds RetCode: 0 Status: OK