Package: MSMB Version: 1.26.0 Command: /home/biocbuild/bbs-3.21-bioc/R/bin/R CMD INSTALL MSMB StartedAt: 2025-10-14 10:56:40 -0400 (Tue, 14 Oct 2025) EndedAt: 2025-10-14 10:56:43 -0400 (Tue, 14 Oct 2025) EllapsedTime: 2.8 seconds RetCode: 0 Status: OK