Package: MMDiffBamSubset Version: 1.46.0 Command: /home/biocbuild/bbs-3.22-bioc/R/bin/R CMD build --keep-empty-dirs --no-resave-data MMDiffBamSubset StartedAt: 2025-11-06 11:30:53 -0500 (Thu, 06 Nov 2025) EndedAt: 2025-11-06 11:31:33 -0500 (Thu, 06 Nov 2025) EllapsedTime: 39.8 seconds RetCode: 0 Status: OK PackageFile: MMDiffBamSubset_1.46.0.tar.gz PackageFileSize: 632.3 MiB