Package: MEEBOdata Version: 1.48.0 Command: /home/biocbuild/bbs-3.22-bioc/R/bin/R CMD INSTALL MEEBOdata StartedAt: 2025-11-06 10:55:37 -0500 (Thu, 06 Nov 2025) EndedAt: 2025-11-06 10:55:38 -0500 (Thu, 06 Nov 2025) EllapsedTime: 1.3 seconds RetCode: 0 Status: OK