Package: MEDIPSData Version: 1.46.0 Command: /home/biocbuild/bbs-3.22-bioc/R/bin/R CMD build --keep-empty-dirs --no-resave-data MEDIPSData StartedAt: 2025-11-06 11:28:49 -0500 (Thu, 06 Nov 2025) EndedAt: 2025-11-06 11:29:02 -0500 (Thu, 06 Nov 2025) EllapsedTime: 13.2 seconds RetCode: 0 Status: OK PackageFile: MEDIPSData_1.46.0.tar.gz PackageFileSize: 158.4 MiB