Package: MAQCsubset Version: 1.48.0 Command: /home/biocbuild/bbs-3.22-bioc/R/bin/R CMD build --keep-empty-dirs --no-resave-data MAQCsubset StartedAt: 2025-11-06 11:27:49 -0500 (Thu, 06 Nov 2025) EndedAt: 2025-11-06 11:29:18 -0500 (Thu, 06 Nov 2025) EllapsedTime: 89.0 seconds RetCode: 0 Status: OK PackageFile: MAQCsubset_1.48.0.tar.gz PackageFileSize: 64.89 MiB