Package: M3DExampleData Version: 1.36.0 Command: /home/biocbuild/bbs-3.22-bioc/R/bin/R CMD INSTALL M3DExampleData StartedAt: 2025-11-06 10:55:40 -0500 (Thu, 06 Nov 2025) EndedAt: 2025-11-06 10:55:43 -0500 (Thu, 06 Nov 2025) EllapsedTime: 3.1 seconds RetCode: 0 Status: OK