Package: M3DExampleData Version: 1.36.0 Command: /home/biocbuild/bbs-3.22-bioc/R/bin/R CMD build --keep-empty-dirs --no-resave-data M3DExampleData StartedAt: 2025-11-06 11:27:32 -0500 (Thu, 06 Nov 2025) EndedAt: 2025-11-06 11:27:33 -0500 (Thu, 06 Nov 2025) EllapsedTime: 1.0 seconds RetCode: 0 Status: OK PackageFile: M3DExampleData_1.36.0.tar.gz PackageFileSize: 2.05 MiB