Package: LungCancerACvsSCCGEO Version: 1.46.0 Maintainer: Adi Laurentiu Tarca MaintainerEmail: atarca at med.wayne.edu git_url: https://git.bioconductor.org/packages/LungCancerACvsSCCGEO git_branch: RELEASE_3_22 git_last_commit: 574147c git_last_commit_date: 2025-10-29 09:53:39 -0500 (Wed, 29 Oct 2025)