Package: LegATo Version: 1.4.0 Command: /home/biocbuild/bbs-3.22-bioc/R/bin/R CMD INSTALL LegATo StartedAt: 2025-11-06 11:04:15 -0500 (Thu, 06 Nov 2025) EndedAt: 2025-11-06 11:04:36 -0500 (Thu, 06 Nov 2025) EllapsedTime: 20.2 seconds RetCode: 0 Status: OK