Package: LegATo Version: 1.4.0 Maintainer: Aubrey Odom MaintainerEmail: aodom at bu.edu git_url: https://git.bioconductor.org/packages/LegATo git_branch: RELEASE_3_22 git_last_commit: a90b8bd git_last_commit_date: 2025-10-29 10:06:39 -0500 (Wed, 29 Oct 2025)