Package: KOdata Version: 1.36.0 Command: /home/biocbuild/bbs-3.22-bioc/R/bin/R CMD build --keep-empty-dirs --no-resave-data KOdata StartedAt: 2025-11-06 11:26:20 -0500 (Thu, 06 Nov 2025) EndedAt: 2025-11-06 11:26:23 -0500 (Thu, 06 Nov 2025) EllapsedTime: 3.0 seconds RetCode: 0 Status: OK PackageFile: KOdata_1.36.0.tar.gz PackageFileSize: 31.77 MiB