Package: JohnsonKinaseData Version: 1.6.0 Command: /home/biocbuild/bbs-3.22-bioc/R/bin/R CMD INSTALL JohnsonKinaseData StartedAt: 2025-11-06 10:57:01 -0500 (Thu, 06 Nov 2025) EndedAt: 2025-11-06 10:57:16 -0500 (Thu, 06 Nov 2025) EllapsedTime: 14.2 seconds RetCode: 0 Status: OK