Package: JohnsonKinaseData Version: 1.6.0 Command: /home/biocbuild/bbs-3.22-bioc/R/bin/R CMD build --keep-empty-dirs --no-resave-data JohnsonKinaseData StartedAt: 2025-11-06 11:25:55 -0500 (Thu, 06 Nov 2025) EndedAt: 2025-11-06 11:26:50 -0500 (Thu, 06 Nov 2025) EllapsedTime: 55.0 seconds RetCode: 0 Status: OK PackageFile: JohnsonKinaseData_1.6.0.tar.gz PackageFileSize: 315.1 KiB