Package: JASPAR2016 Version: 1.38.0 Command: /home/biocbuild/bbs-3.22-bioc/R/bin/R CMD INSTALL JASPAR2016 StartedAt: 2025-11-06 10:55:55 -0500 (Thu, 06 Nov 2025) EndedAt: 2025-11-06 10:56:00 -0500 (Thu, 06 Nov 2025) EllapsedTime: 4.9 seconds RetCode: 0 Status: OK