Package: JASPAR2016 Version: 1.38.0 Maintainer: Ge Tan MaintainerEmail: ge_tan at live.com git_url: https://git.bioconductor.org/packages/JASPAR2016 git_branch: RELEASE_3_22 git_last_commit: ce701a6 git_last_commit_date: 2025-10-29 09:57:20 -0500 (Wed, 29 Oct 2025)