Package: JASPAR2014 Version: 1.46.0 Command: /home/biocbuild/bbs-3.22-bioc/R/bin/R CMD INSTALL JASPAR2014 StartedAt: 2025-11-06 10:56:30 -0500 (Thu, 06 Nov 2025) EndedAt: 2025-11-06 10:56:59 -0500 (Thu, 06 Nov 2025) EllapsedTime: 29.1 seconds RetCode: 0 Status: OK