Package: JASPAR2014 Version: 1.44.0 Command: /home/biocbuild/bbs-3.21-bioc/R/bin/R CMD INSTALL JASPAR2014 StartedAt: 2025-10-16 10:56:46 -0400 (Thu, 16 Oct 2025) EndedAt: 2025-10-16 10:57:15 -0400 (Thu, 16 Oct 2025) EllapsedTime: 29.8 seconds RetCode: 0 Status: OK