Package: JASPAR2014 Version: 1.44.0 Command: /home/biocbuild/bbs-3.21-bioc/R/bin/R CMD build --keep-empty-dirs --no-resave-data JASPAR2014 StartedAt: 2025-10-16 11:23:59 -0400 (Thu, 16 Oct 2025) EndedAt: 2025-10-16 11:24:06 -0400 (Thu, 16 Oct 2025) EllapsedTime: 7.0 seconds RetCode: 0 Status: OK PackageFile: JASPAR2014_1.44.0.tar.gz PackageFileSize: 42.89 MiB