Package: Iyer517 Version: 1.52.0 Command: /home/biocbuild/bbs-3.22-bioc/R/bin/R CMD build --keep-empty-dirs --no-resave-data Iyer517 StartedAt: 2025-11-06 11:25:41 -0500 (Thu, 06 Nov 2025) EndedAt: 2025-11-06 11:25:48 -0500 (Thu, 06 Nov 2025) EllapsedTime: 7.0 seconds RetCode: 0 Status: OK PackageFile: Iyer517_1.52.0.tar.gz PackageFileSize: 408.1 KiB