Package: ITALICSData Version: 2.48.0 Command: /home/biocbuild/bbs-3.22-bioc/R/bin/R CMD build --keep-empty-dirs --no-resave-data ITALICSData StartedAt: 2025-11-06 11:25:15 -0500 (Thu, 06 Nov 2025) EndedAt: 2025-11-06 11:26:28 -0500 (Thu, 06 Nov 2025) EllapsedTime: 73.6 seconds RetCode: 0 Status: OK PackageFile: ITALICSData_2.48.0.tar.gz PackageFileSize: 83.5 MiB