Package: IHWpaper Version: 1.38.0 Command: /home/biocbuild/bbs-3.22-bioc/R/bin/R CMD INSTALL IHWpaper StartedAt: 2025-11-06 11:02:30 -0500 (Thu, 06 Nov 2025) EndedAt: 2025-11-06 11:03:06 -0500 (Thu, 06 Nov 2025) EllapsedTime: 36.1 seconds RetCode: 0 Status: OK