Package: HumanAffyData Version: 1.36.0 Command: /home/biocbuild/bbs-3.22-bioc/R/bin/R CMD INSTALL HumanAffyData StartedAt: 2025-11-06 10:57:33 -0500 (Thu, 06 Nov 2025) EndedAt: 2025-11-06 10:57:41 -0500 (Thu, 06 Nov 2025) EllapsedTime: 8.7 seconds RetCode: 0 Status: OK