Package: Hiiragi2013 Version: 1.46.0 Command: /home/biocbuild/bbs-3.22-bioc/R/bin/R CMD INSTALL Hiiragi2013 StartedAt: 2025-11-06 10:57:27 -0500 (Thu, 06 Nov 2025) EndedAt: 2025-11-06 10:57:46 -0500 (Thu, 06 Nov 2025) EllapsedTime: 18.2 seconds RetCode: 0 Status: OK