Package: Hiiragi2013 Version: 1.46.0 Command: /home/biocbuild/bbs-3.22-bioc/R/bin/R CMD build --keep-empty-dirs --no-resave-data Hiiragi2013 StartedAt: 2025-11-06 11:24:00 -0500 (Thu, 06 Nov 2025) EndedAt: 2025-11-06 11:29:42 -0500 (Thu, 06 Nov 2025) EllapsedTime: 341.5 seconds RetCode: 0 Status: OK PackageFile: Hiiragi2013_1.46.0.tar.gz PackageFileSize: 139.1 MiB