Package: HighlyReplicatedRNASeq Version: 1.22.0 Command: /home/biocbuild/bbs-3.22-bioc/R/bin/R CMD INSTALL HighlyReplicatedRNASeq StartedAt: 2025-11-06 10:59:59 -0500 (Thu, 06 Nov 2025) EndedAt: 2025-11-06 11:00:24 -0500 (Thu, 06 Nov 2025) EllapsedTime: 25.8 seconds RetCode: 0 Status: OK