Package: HighlyReplicatedRNASeq Version: 1.22.0 Command: /home/biocbuild/bbs-3.22-bioc/R/bin/R CMD build --keep-empty-dirs --no-resave-data HighlyReplicatedRNASeq StartedAt: 2025-11-06 11:23:56 -0500 (Thu, 06 Nov 2025) EndedAt: 2025-11-06 11:24:59 -0500 (Thu, 06 Nov 2025) EllapsedTime: 62.3 seconds RetCode: 0 Status: OK PackageFile: HighlyReplicatedRNASeq_1.22.0.tar.gz PackageFileSize: 468.5 KiB