Package: HiContactsData Version: 1.12.0 Command: /home/biocbuild/bbs-3.22-bioc/R/bin/R CMD INSTALL HiContactsData StartedAt: 2025-11-06 10:57:00 -0500 (Thu, 06 Nov 2025) EndedAt: 2025-11-06 10:57:12 -0500 (Thu, 06 Nov 2025) EllapsedTime: 12.9 seconds RetCode: 0 Status: OK