Package: HiCDataHumanIMR90 Version: 1.30.0 Command: /home/biocbuild/bbs-3.22-bioc/R/bin/R CMD build --keep-empty-dirs --no-resave-data HiCDataHumanIMR90 StartedAt: 2025-11-06 11:23:27 -0500 (Thu, 06 Nov 2025) EndedAt: 2025-11-06 11:24:20 -0500 (Thu, 06 Nov 2025) EllapsedTime: 53.2 seconds RetCode: 0 Status: OK PackageFile: HiCDataHumanIMR90_1.30.0.tar.gz PackageFileSize: 70.64 MiB