Package: HiBED Version: 1.8.0 Command: /home/biocbuild/bbs-3.22-bioc/R/bin/R CMD INSTALL HiBED StartedAt: 2025-11-06 11:03:31 -0500 (Thu, 06 Nov 2025) EndedAt: 2025-11-06 11:04:14 -0500 (Thu, 06 Nov 2025) EllapsedTime: 43.0 seconds RetCode: 0 Status: OK