Package: HelloRangesData Version: 1.36.0 Command: /home/biocbuild/bbs-3.22-bioc/R/bin/R CMD build --keep-empty-dirs --no-resave-data HelloRangesData StartedAt: 2025-11-06 11:23:18 -0500 (Thu, 06 Nov 2025) EndedAt: 2025-11-06 11:23:53 -0500 (Thu, 06 Nov 2025) EllapsedTime: 34.8 seconds RetCode: 0 Status: OK PackageFile: HelloRangesData_1.36.0.tar.gz PackageFileSize: 45.73 MiB