Package: HarmonizedTCGAData Version: 1.32.0 Command: /home/biocbuild/bbs-3.22-bioc/R/bin/R CMD INSTALL HarmonizedTCGAData StartedAt: 2025-11-06 10:56:47 -0500 (Thu, 06 Nov 2025) EndedAt: 2025-11-06 10:57:01 -0500 (Thu, 06 Nov 2025) EllapsedTime: 14.1 seconds RetCode: 0 Status: OK