Package: HarmonizedTCGAData Version: 1.32.0 Maintainer: Tianle Ma MaintainerEmail: tianlema at buffalo.edu git_url: https://git.bioconductor.org/packages/HarmonizedTCGAData git_branch: RELEASE_3_22 git_last_commit: 36dd1c5 git_last_commit_date: 2025-10-29 09:59:29 -0500 (Wed, 29 Oct 2025)