Package: HarmanData Version: 1.38.0 Command: /home/biocbuild/bbs-3.22-bioc/R/bin/R CMD build --keep-empty-dirs --no-resave-data HarmanData StartedAt: 2025-11-06 11:21:32 -0500 (Thu, 06 Nov 2025) EndedAt: 2025-11-06 11:21:57 -0500 (Thu, 06 Nov 2025) EllapsedTime: 24.6 seconds RetCode: 0 Status: OK PackageFile: HarmanData_1.38.0.tar.gz PackageFileSize: 54.65 MiB