Package: HSMMSingleCell Version: 1.30.0 Command: /home/biocbuild/bbs-3.22-bioc/R/bin/R CMD INSTALL HSMMSingleCell StartedAt: 2025-11-06 11:04:23 -0500 (Thu, 06 Nov 2025) EndedAt: 2025-11-06 11:04:25 -0500 (Thu, 06 Nov 2025) EllapsedTime: 2.0 seconds RetCode: 0 Status: OK