Package: HMP2Data Version: 1.24.0 Command: /home/biocbuild/bbs-3.22-bioc/R/bin/R CMD INSTALL HMP2Data StartedAt: 2025-11-06 11:00:22 -0500 (Thu, 06 Nov 2025) EndedAt: 2025-11-06 11:00:59 -0500 (Thu, 06 Nov 2025) EllapsedTime: 36.9 seconds RetCode: 0 Status: OK