Package: HMP2Data Version: 1.24.0 Command: /home/biocbuild/bbs-3.22-bioc/R/bin/R CMD build --keep-empty-dirs --no-resave-data HMP2Data StartedAt: 2025-11-06 11:24:24 -0500 (Thu, 06 Nov 2025) EndedAt: 2025-11-06 11:25:41 -0500 (Thu, 06 Nov 2025) EllapsedTime: 76.7 seconds RetCode: 0 Status: OK PackageFile: HMP2Data_1.24.0.tar.gz PackageFileSize: 5.147 MiB