Package: HMP2Data Version: 1.24.0 Maintainer: John Stansfield , Ekaterina Smirnova MaintainerEmail: ekaterina.smirnova at vcuhealth.org git_url: https://git.bioconductor.org/packages/HMP2Data git_branch: RELEASE_3_22 git_last_commit: c79ed77 git_last_commit_date: 2025-10-29 10:01:37 -0500 (Wed, 29 Oct 2025)