Package: HMP16SData Version: 1.30.0 Command: /home/biocbuild/bbs-3.22-bioc/R/bin/R CMD INSTALL HMP16SData StartedAt: 2025-11-06 10:58:12 -0500 (Thu, 06 Nov 2025) EndedAt: 2025-11-06 10:58:41 -0500 (Thu, 06 Nov 2025) EllapsedTime: 29.2 seconds RetCode: 0 Status: OK