Package: HMP16SData Version: 1.30.0 Command: /home/biocbuild/bbs-3.22-bioc/R/bin/R CMD build --keep-empty-dirs --no-resave-data HMP16SData StartedAt: 2025-11-06 11:24:21 -0500 (Thu, 06 Nov 2025) EndedAt: 2025-11-06 11:26:52 -0500 (Thu, 06 Nov 2025) EllapsedTime: 151.6 seconds RetCode: 0 Status: OK PackageFile: HMP16SData_1.30.0.tar.gz PackageFileSize: 16.36 MiB