Package: HIVcDNAvantWout03 Version: 1.50.0 Command: /home/biocbuild/bbs-3.22-bioc/R/bin/R CMD INSTALL HIVcDNAvantWout03 StartedAt: 2025-11-06 10:55:14 -0500 (Thu, 06 Nov 2025) EndedAt: 2025-11-06 10:55:17 -0500 (Thu, 06 Nov 2025) EllapsedTime: 2.4 seconds RetCode: 0 Status: OK