Package: HIVcDNAvantWout03 Version: 1.50.0 Command: /home/biocbuild/bbs-3.22-bioc/R/bin/R CMD build --keep-empty-dirs --no-resave-data HIVcDNAvantWout03 StartedAt: 2025-11-06 11:24:18 -0500 (Thu, 06 Nov 2025) EndedAt: 2025-11-06 11:24:24 -0500 (Thu, 06 Nov 2025) EllapsedTime: 5.4 seconds RetCode: 0 Status: OK PackageFile: HIVcDNAvantWout03_1.50.0.tar.gz PackageFileSize: 1.711 MiB