Package: HEEBOdata Version: 1.48.0 Command: /home/biocbuild/bbs-3.22-bioc/R/bin/R CMD build --keep-empty-dirs --no-resave-data HEEBOdata StartedAt: 2025-11-06 11:23:18 -0500 (Thu, 06 Nov 2025) EndedAt: 2025-11-06 11:23:23 -0500 (Thu, 06 Nov 2025) EllapsedTime: 5.4 seconds RetCode: 0 Status: OK PackageFile: HEEBOdata_1.48.0.tar.gz PackageFileSize: 8.269 MiB