Package: HD2013SGI Version: 1.50.0 Command: /home/biocbuild/bbs-3.22-bioc/R/bin/R CMD build --keep-empty-dirs --no-resave-data HD2013SGI StartedAt: 2025-11-06 11:22:24 -0500 (Thu, 06 Nov 2025) EndedAt: 2025-11-06 11:28:41 -0500 (Thu, 06 Nov 2025) EllapsedTime: 377.0 seconds RetCode: 0 Status: OK PackageFile: HD2013SGI_1.50.0.tar.gz PackageFileSize: 526.5 MiB