Package: HCATonsilData Version: 1.8.0 Command: /home/biocbuild/bbs-3.22-bioc/R/bin/R CMD INSTALL HCATonsilData StartedAt: 2025-11-06 11:02:41 -0500 (Thu, 06 Nov 2025) EndedAt: 2025-11-06 11:03:13 -0500 (Thu, 06 Nov 2025) EllapsedTime: 31.5 seconds RetCode: 0 Status: OK