Package: HCAData Version: 1.26.0 Command: /home/biocbuild/bbs-3.22-bioc/R/bin/R CMD INSTALL HCAData StartedAt: 2025-11-06 11:02:33 -0500 (Thu, 06 Nov 2025) EndedAt: 2025-11-06 11:03:04 -0500 (Thu, 06 Nov 2025) EllapsedTime: 30.7 seconds RetCode: 0 Status: OK