Package: HCAData Version: 1.26.0 Command: /home/biocbuild/bbs-3.22-bioc/R/bin/R CMD build --keep-empty-dirs --no-resave-data HCAData StartedAt: 2025-11-06 11:21:56 -0500 (Thu, 06 Nov 2025) EndedAt: 2025-11-06 11:24:50 -0500 (Thu, 06 Nov 2025) EllapsedTime: 174.5 seconds RetCode: 0 Status: OK PackageFile: HCAData_1.26.0.tar.gz PackageFileSize: 1.476 MiB